BEGIN:VCALENDAR
VERSION:2.0
PRODID:-//United Services Union - ECPv6.15.20//NONSGML v1.0//EN
CALSCALE:GREGORIAN
METHOD:PUBLISH
X-WR-CALNAME:United Services Union
X-ORIGINAL-URL:https://usu.org.au
X-WR-CALDESC:Events for United Services Union
REFRESH-INTERVAL;VALUE=DURATION:PT1H
X-Robots-Tag:noindex
X-PUBLISHED-TTL:PT1H
BEGIN:VTIMEZONE
TZID:Australia/Sydney
BEGIN:STANDARD
TZOFFSETFROM:+1100
TZOFFSETTO:+1000
TZNAME:AEST
DTSTART:20250405T160000
END:STANDARD
BEGIN:DAYLIGHT
TZOFFSETFROM:+1000
TZOFFSETTO:+1100
TZNAME:AEDT
DTSTART:20251004T160000
END:DAYLIGHT
BEGIN:STANDARD
TZOFFSETFROM:+1100
TZOFFSETTO:+1000
TZNAME:AEST
DTSTART:20260404T160000
END:STANDARD
BEGIN:DAYLIGHT
TZOFFSETFROM:+1000
TZOFFSETTO:+1100
TZNAME:AEDT
DTSTART:20261003T160000
END:DAYLIGHT
BEGIN:STANDARD
TZOFFSETFROM:+1100
TZOFFSETTO:+1000
TZNAME:AEST
DTSTART:20270403T160000
END:STANDARD
BEGIN:DAYLIGHT
TZOFFSETFROM:+1000
TZOFFSETTO:+1100
TZNAME:AEDT
DTSTART:20271002T160000
END:DAYLIGHT
END:VTIMEZONE
BEGIN:VEVENT
DTSTART;TZID=Australia/Sydney:20261106T090000
DTEND;TZID=Australia/Sydney:20261106T170000
DTSTAMP:20260422T102353
CREATED:20260223T114305Z
LAST-MODIFIED:20260407T032259Z
UID:10001498-1793955600-1793984400@usu.org.au
SUMMARY:New England BCOM AGM & Training
DESCRIPTION:
URL:https://usu.org.au/event/new-england-bcom-2/
LOCATION:West Tamworth Leagues Club\, 58 Phillip St\, West Tamworth\, NSW\, 2340\, Australia
CATEGORIES:New England
ORGANIZER;CN="Kellie Gale":MAILTO:kgale@usu.org.au
GEO:-31.1024361;150.9170266
X-APPLE-STRUCTURED-LOCATION;VALUE=URI;X-ADDRESS=West Tamworth Leagues Club 58 Phillip St West Tamworth NSW 2340 Australia;X-APPLE-RADIUS=500;X-TITLE=58 Phillip St:geo:150.9170266,-31.1024361
END:VEVENT
END:VCALENDAR